BEGIN:VCALENDAR
VERSION:2.0
PRODID:-//UMBA - ECPv6.15.20//NONSGML v1.0//EN
CALSCALE:GREGORIAN
METHOD:PUBLISH
X-ORIGINAL-URL:https://umbanc.org
X-WR-CALDESC:Events for UMBA
REFRESH-INTERVAL;VALUE=DURATION:PT1H
X-Robots-Tag:noindex
X-PUBLISHED-TTL:PT1H
BEGIN:VTIMEZONE
TZID:UTC
BEGIN:STANDARD
TZOFFSETFROM:+0000
TZOFFSETTO:+0000
TZNAME:UTC
DTSTART:20220101T000000
END:STANDARD
END:VTIMEZONE
BEGIN:VEVENT
DTSTART;TZID=UTC:20231027T000000
DTEND;TZID=UTC:20231028T000000
DTSTAMP:20260419T173245
CREATED:20230114T183331Z
LAST-MODIFIED:20230114T190533Z
UID:1264-1698364800-1698451200@umbanc.org
SUMMARY:Union of UMBA
DESCRIPTION:
URL:https://umbanc.org/event/union-of-umba-3/
LOCATION:TBD
END:VEVENT
END:VCALENDAR