BEGIN:VCALENDAR
VERSION:2.0
PRODID:-//UMBA - ECPv6.15.20//NONSGML v1.0//EN
CALSCALE:GREGORIAN
METHOD:PUBLISH
X-ORIGINAL-URL:https://umbanc.org
X-WR-CALDESC:Events for UMBA
REFRESH-INTERVAL;VALUE=DURATION:PT1H
X-Robots-Tag:noindex
X-PUBLISHED-TTL:PT1H
BEGIN:VTIMEZONE
TZID:UTC
BEGIN:STANDARD
TZOFFSETFROM:+0000
TZOFFSETTO:+0000
TZNAME:UTC
DTSTART:20220101T000000
END:STANDARD
END:VTIMEZONE
BEGIN:VEVENT
DTSTART;TZID=UTC:20230204T000000
DTEND;TZID=UTC:20230204T000000
DTSTAMP:20260423T035904
CREATED:20230114T183300Z
LAST-MODIFIED:20230114T190000Z
UID:1253-1675468800-1675468800@umbanc.org
SUMMARY:GBSC Congress of Christian Education One Day Session
DESCRIPTION:
URL:https://umbanc.org/event/gbsc-congress-of-christian-education-one-day-session/
LOCATION:TBD
END:VEVENT
BEGIN:VEVENT
DTSTART;TZID=UTC:20230224T000000
DTEND;TZID=UTC:20230224T000000
DTSTAMP:20260423T035904
CREATED:20230114T183301Z
LAST-MODIFIED:20230114T190013Z
UID:1254-1677196800-1677196800@umbanc.org
SUMMARY:GBSC Ushers One Day Session
DESCRIPTION:
URL:https://umbanc.org/event/gbsc-ushers-one-day-session/
LOCATION:TBD
END:VEVENT
END:VCALENDAR