BEGIN:VCALENDAR
VERSION:2.0
PRODID:-//UMBA - ECPv6.15.20//NONSGML v1.0//EN
CALSCALE:GREGORIAN
METHOD:PUBLISH
X-ORIGINAL-URL:https://umbanc.org
X-WR-CALDESC:Events for UMBA
REFRESH-INTERVAL;VALUE=DURATION:PT1H
X-Robots-Tag:noindex
X-PUBLISHED-TTL:PT1H
BEGIN:VTIMEZONE
TZID:UTC
BEGIN:STANDARD
TZOFFSETFROM:+0000
TZOFFSETTO:+0000
TZNAME:UTC
DTSTART:20220101T000000
END:STANDARD
END:VTIMEZONE
BEGIN:VEVENT
DTSTART;TZID=UTC:20231115T000000
DTEND;TZID=UTC:20231116T000000
DTSTAMP:20260419T143440
CREATED:20230114T183332Z
LAST-MODIFIED:20230114T190619Z
UID:1265-1700006400-1700092800@umbanc.org
SUMMARY:Pastors and Ministers Preaching Conference
DESCRIPTION:
URL:https://umbanc.org/event/pastors-and-ministers-preaching-conference/
LOCATION:TBD
END:VEVENT
BEGIN:VEVENT
DTSTART;TZID=UTC:20231123T000000
DTEND;TZID=UTC:20231123T000000
DTSTAMP:20260419T143440
CREATED:20230114T183332Z
LAST-MODIFIED:20230114T183332Z
UID:1266-1700697600-1700697600@umbanc.org
SUMMARY:Thanksgiving
DESCRIPTION:
URL:https://umbanc.org/event/thanksgiving/
END:VEVENT
END:VCALENDAR