BEGIN:VCALENDAR
VERSION:2.0
PRODID:-//UMBA - ECPv6.15.20//NONSGML v1.0//EN
CALSCALE:GREGORIAN
METHOD:PUBLISH
X-ORIGINAL-URL:https://umbanc.org
X-WR-CALDESC:Events for UMBA
REFRESH-INTERVAL;VALUE=DURATION:PT1H
X-Robots-Tag:noindex
X-PUBLISHED-TTL:PT1H
BEGIN:VTIMEZONE
TZID:UTC
BEGIN:STANDARD
TZOFFSETFROM:+0000
TZOFFSETTO:+0000
TZNAME:UTC
DTSTART:20230101T000000
END:STANDARD
END:VTIMEZONE
BEGIN:VEVENT
DTSTART;TZID=UTC:20240311T080000
DTEND;TZID=UTC:20240314T170000
DTSTAMP:20260419T084822
CREATED:20240129T203236Z
LAST-MODIFIED:20240301T165314Z
UID:1764-1710144000-1710435600@umbanc.org
SUMMARY:UMBA Mid-Annual Session
DESCRIPTION:UMBA Mid-Annual Session\nSwan’s Creek Missionary Baptist Church\n6:30 pm
URL:https://umbanc.org/event/umba-mid-annual-session-2/
LOCATION:Swans Creek MBC\, 2404 Swans Creek Rd\, Hope Mills\, NC\, 28348\, United States
ATTACH;FMTTYPE=image/jpeg:https://umbanc.org/wp-content/uploads/2024/03/IMG_7041.jpg
END:VEVENT
BEGIN:VEVENT
DTSTART;TZID=UTC:20240315T190000
DTEND;TZID=UTC:20240315T210000
DTSTAMP:20260419T084822
CREATED:20240129T203437Z
LAST-MODIFIED:20240129T205240Z
UID:1766-1710529200-1710536400@umbanc.org
SUMMARY:UMBA Woman's Auxiliary Annual Young Adults' Anniversary
DESCRIPTION:UMBA Woman’s Auxiliary Annual Young Adults’ Anniversary\nSt. Jude Missionary Baptist Church\n7:00 pm
URL:https://umbanc.org/event/umba-womans-auxiliary-annual-young-adults-anniversary/
END:VEVENT
BEGIN:VEVENT
DTSTART;TZID=UTC:20240316T080000
DTEND;TZID=UTC:20240316T170000
DTSTAMP:20260419T084822
CREATED:20240129T205352Z
LAST-MODIFIED:20240224T184003Z
UID:1771-1710576000-1710608400@umbanc.org
SUMMARY:UMBA Deacon Training Academy (begins)
DESCRIPTION:UMBA Deacon Training Academy (begins)\nSecond Missionary Baptist Church\n9 am
URL:https://umbanc.org/event/umba-deacon-training-academy-begins/
LOCATION:Second Missionary Baptist Church\, 522 Old Wilmington Road\, Fayetteville\, NC\, 28301\, United States
END:VEVENT
BEGIN:VEVENT
DTSTART;TZID=UTC:20240316T093000
DTEND;TZID=UTC:20240316T170000
DTSTAMP:20260419T084822
CREATED:20240129T204908Z
LAST-MODIFIED:20240129T205141Z
UID:1768-1710581400-1710608400@umbanc.org
SUMMARY:UMBA Woman's Auxiliary Session
DESCRIPTION:UMBA Woman’s Auxiliary Session\nSt. Jude Missionary Baptist Church\n9:30 am
URL:https://umbanc.org/event/umba-womans-auxiliary-session/
END:VEVENT
BEGIN:VEVENT
DTSTART;TZID=UTC:20240322T183000
DTEND;TZID=UTC:20240322T213000
DTSTAMP:20260419T084822
CREATED:20240130T160226Z
LAST-MODIFIED:20240214T032454Z
UID:1774-1711132200-1711143000@umbanc.org
SUMMARY:Union of Unions (Day 1)
DESCRIPTION:Union of Unions – District Ushers \n6:30 pm\n  \nUnion of Unions – Pastors and Ministers Conference\n7:45 pm\n\n\nPastors and Ministers Session\nSpeaker: Rev. Kenneth Carter\, Pastor\nOak Ridge MBC\, Lumber Bridge\, NC
URL:https://umbanc.org/event/union-of-unions-day-1/
LOCATION:Spring Lake Memorial Missionary Baptist Church\, 458 Chapel Hill Rd.\, Spring Lake\, NC\, 28390\, United States
END:VEVENT
BEGIN:VEVENT
DTSTART;TZID=UTC:20240323T083000
DTEND;TZID=UTC:20240323T133000
DTSTAMP:20260419T084822
CREATED:20240130T160429Z
LAST-MODIFIED:20240214T032926Z
UID:1776-1711182600-1711200600@umbanc.org
SUMMARY:Union of Unions (Day 2)
DESCRIPTION:Union of Unions – District Laymen League\n8:30 am\n  \nUnion of Unions –  District Congress of Christian Education\n930 am\n  \nUnion of Unions – UMBA\n 10:45 am\n  \nUnion of Unions –  SHAW DAY\n11:30 am\n  \n\n\n\n\nShaw Day Speaker:\nDr. Cynthia Dixon\, Pastor\nRivers of Living Water Global Ministries\,\nWinston-Salem\, NC
URL:https://umbanc.org/event/union-of-unions-day-2/
LOCATION:Spring Lake Memorial Missionary Baptist Church\, 458 Chapel Hill Rd.\, Spring Lake\, NC\, 28390\, United States
END:VEVENT
BEGIN:VEVENT
DTSTART;TZID=UTC:20240324T080000
DTEND;TZID=UTC:20240324T170000
DTSTAMP:20260419T084822
CREATED:20240130T160520Z
LAST-MODIFIED:20240130T160520Z
UID:1778-1711267200-1711299600@umbanc.org
SUMMARY:Palm Sunday
DESCRIPTION:Palm Sunday
URL:https://umbanc.org/event/palm-sunday/
END:VEVENT
BEGIN:VEVENT
DTSTART;TZID=UTC:20240331T080000
DTEND;TZID=UTC:20240331T170000
DTSTAMP:20260419T084822
CREATED:20240130T160552Z
LAST-MODIFIED:20240130T160552Z
UID:1780-1711872000-1711904400@umbanc.org
SUMMARY:Easter Sunday
DESCRIPTION:Easter Sunday
URL:https://umbanc.org/event/easter-sunday/
END:VEVENT
END:VCALENDAR